BEGIN:VCALENDAR
VERSION:2.0
PRODID:-//Squarespace Inc/Squarespace 6//v6//EN
BEGIN:VEVENT
UID:5cf8b918efa90f000198f7c6@squarespace.com
DTSTAMP:20190410T202603Z
DTSTART:20200408T100000Z
DTEND:20200408T110000Z
SUMMARY:Yoga Hike
END:VEVENT
END:VCALENDAR
