BEGIN:VCALENDAR
VERSION:2.0
PRODID:-//Squarespace Inc/Squarespace 6//v6//EN
BEGIN:VEVENT
UID:5cf8b918efa90f000198f7c4@squarespace.com
DTSTAMP:20190410T202627Z
DTSTART:20190912T123000Z
DTEND:20190912T133000Z
SUMMARY:Yoga Aerobics
END:VEVENT
END:VCALENDAR
