BEGIN:VCALENDAR
VERSION:2.0
PRODID:-//Squarespace Inc/Squarespace 6//v6//EN
BEGIN:VEVENT
UID:5cf8b918efa90f000198f7c5@squarespace.com
DTSTAMP:20190410T202614Z
DTSTART:20200101T180000Z
DTEND:20200101T190000Z
SUMMARY:Instructor Training
END:VEVENT
END:VCALENDAR
